BEGIN:VCALENDAR
VERSION:2.0
PRODID:-//Rock Club Kain - ECPv5.1.6//NONSGML v1.0//EN
CALSCALE:GREGORIAN
METHOD:PUBLISH
X-WR-CALNAME:Rock Club Kain
X-ORIGINAL-URL:http://www.kain.cz
X-WR-CALDESC:Akce na Rock Club Kain
BEGIN:VTIMEZONE
TZID:Europe/Prague
BEGIN:DAYLIGHT
TZOFFSETFROM:+0100
TZOFFSETTO:+0200
TZNAME:CEST
DTSTART:20190331T010000
END:DAYLIGHT
BEGIN:STANDARD
TZOFFSETFROM:+0200
TZOFFSETTO:+0100
TZNAME:CET
DTSTART:20191027T010000
END:STANDARD
END:VTIMEZONE
BEGIN:VEVENT
DTSTART;VALUE=DATE:20190620
DTEND;VALUE=DATE:20190621
DTSTAMP:20260419T143349
CREATED:20190512T133148Z
LAST-MODIFIED:20190512T133148Z
UID:640-1560988800-1561075199@www.kain.cz
SUMMARY:DOKTOR TRICERATOPS
DESCRIPTION:
URL:http://www.kain.cz/koncert/doktor-triceratops/
LOCATION:metal core
ATTACH;FMTTYPE=image/jpeg:http://www.kain.cz/wp-content/uploads/2019/03/233963.jpg
END:VEVENT
END:VCALENDAR