BEGIN:VCALENDAR
VERSION:2.0
PRODID:-//Rock Club Kain - ECPv5.1.6//NONSGML v1.0//EN
CALSCALE:GREGORIAN
METHOD:PUBLISH
X-WR-CALNAME:Rock Club Kain
X-ORIGINAL-URL:http://www.kain.cz
X-WR-CALDESC:Akce na Rock Club Kain
BEGIN:VTIMEZONE
TZID:Europe/Prague
BEGIN:DAYLIGHT
TZOFFSETFROM:+0100
TZOFFSETTO:+0200
TZNAME:CEST
DTSTART:20190331T010000
END:DAYLIGHT
BEGIN:STANDARD
TZOFFSETFROM:+0200
TZOFFSETTO:+0100
TZNAME:CET
DTSTART:20191027T010000
END:STANDARD
END:VTIMEZONE
BEGIN:VEVENT
DTSTART;VALUE=DATE:20191116
DTEND;VALUE=DATE:20191117
DTSTAMP:20260419T142730
CREATED:20191007T002128Z
LAST-MODIFIED:20191007T002128Z
UID:1288-1573862400-1573948799@www.kain.cz
SUMMARY:OXAGON + STEELFAITH
DESCRIPTION:Oxagon: https://www.facebook.com/Candela-349075188571913/?ref=bookmarks;\nhttps://bandzone.cz/candela\nSteelFaith: https://www.facebook.com/steelfaithcz/;\nhttps://bandzone.cz/steelfaith
URL:http://www.kain.cz/koncert/oxagon-steelfaith/
LOCATION:power metal
ATTACH;FMTTYPE=image/jpeg:http://www.kain.cz/wp-content/uploads/2019/10/steelfaith.jpg
END:VEVENT
END:VCALENDAR